BEGIN:VCALENDAR
VERSION:2.0
PRODID:-//104.152.168.27//NONSGML kigkonsult.se iCalcreator 2.20//
CALSCALE:GREGORIAN
METHOD:PUBLISH
X-WR-TIMEZONE:Asia/Tokyo
BEGIN:VEVENT
UID:event40145@Tokyo Gig Guide
DTSTAMP:20260424T055628Z
CATEGORIES:Improvised\, Experimental\, Free Jazz\, Noise\, Psychedelic
DESCRIPTION:つばめがみ (TSUBAMEGAMI): Kawasaki Satoru (t.sax)\, Ashida Nobuhiro 
 (b)\, Miura Maki (g)\, guest Fukushima  Noriaki (ds)\nCategory: Improvised
 \, Experimental\, Free Jazz\, Noise\, Psychedelic\nLink: https://www.tokyo
 gigguide.com/index.php?option=com_jem&view=event&id=40145:tsubamegami-kawa
 saki-satoru-t-sax-ashida-nobuhiro-b-miura-maki-g-guest-fukushima-noriaki-d
 s&Itemid=1094\n
DTSTART:20260328T190000
DTEND:20260328T190000
LOCATION:Aja\,Kaneko Building B1\, 2-21-5 Chuo\, Nakano-ku\, Tokyo\,Nakano-
 sakaue
SUMMARY:つばめがみ (TSUBAMEGAMI): Kawasaki Satoru (t.sax)\, Ashida Nobuhiro (b)\
 , Miura Maki (g)\, guest Fukushima  Noriaki (ds)
URL:https://www.tokyogigguide.com/index.php?option=com_jem&view=event&id=40
 145:tsubamegami-kawasaki-satoru-t-sax-ashida-nobuhiro-b-miura-maki-g-guest
 -fukushima-noriaki-ds&Itemid=1094
END:VEVENT
END:VCALENDAR
