BEGIN:VCALENDAR
VERSION:2.0
PRODID:-//104.152.168.27//NONSGML kigkonsult.se iCalcreator 2.20//
CALSCALE:GREGORIAN
METHOD:PUBLISH
X-WR-TIMEZONE:Asia/Tokyo
BEGIN:VEVENT
UID:event40139@Tokyo Gig Guide
DTSTAMP:20260419T121746Z
CATEGORIES:Death Metal\, DJ\, Grindcore\, Hardcore\, Metal\, Punk\, Rock
DESCRIPTION:Kruelty\, moreru\, Second to None\nCategory: Death Metal\, DJ\,
  Grindcore\, Hardcore\, Metal\, Punk\, Rock\nLink: https://www.tokyogiggui
 de.com/index.php?option=com_jem&view=event&id=40139:kruelty-moreru-second-
 to-none&Itemid=1094\n
DTSTART:20260314T180000
DTEND:20260314T180000
LOCATION:Antiknock\,B1 Ray Flat Shinjuku\, 4-3-15 Shinjuku\,Shinjuku
SUMMARY:Kruelty\, moreru\, Second to None
URL:https://www.tokyogigguide.com/index.php?option=com_jem&view=event&id=40
 139:kruelty-moreru-second-to-none&Itemid=1094
END:VEVENT
END:VCALENDAR
