BEGIN:VCALENDAR
VERSION:2.0
PRODID:-//104.152.168.27//NONSGML kigkonsult.se iCalcreator 2.20//
CALSCALE:GREGORIAN
METHOD:PUBLISH
X-WR-TIMEZONE:Asia/Tokyo
BEGIN:VEVENT
UID:event40087@Tokyo Gig Guide
DTSTAMP:20260421T031640Z
CATEGORIES:Experimental\, Improvised
DESCRIPTION:Yi-Wei Yang (zheng) + Cal Lyall (guitar) + Yasumune Morishige (
 cello)\nCategory: Experimental\, Improvised\nLink: https://www.tokyogiggui
 de.com/index.php?option=com_jem&view=event&id=40087:yi-wei-yang-zheng-cal-
 lyall-guitar-yasumune-morishige-cello&Itemid=1094\n
DTSTART:20260323T193000
DTEND:20260323T193000
LOCATION:Nanahari\,Oriental Bldg. B1\, 2-7-1 Shinkawa\, Chuo-ku\,Hatchobori
SUMMARY:Yi-Wei Yang (zheng) + Cal Lyall (guitar) + Yasumune Morishige (cell
 o)
URL:https://www.tokyogigguide.com/index.php?option=com_jem&view=event&id=40
 087:yi-wei-yang-zheng-cal-lyall-guitar-yasumune-morishige-cello&Itemid=109
 4
END:VEVENT
END:VCALENDAR
