BEGIN:VCALENDAR
VERSION:2.0
PRODID:-//104.152.168.27//NONSGML kigkonsult.se iCalcreator 2.20//
CALSCALE:GREGORIAN
METHOD:PUBLISH
X-WR-TIMEZONE:Asia/Tokyo
BEGIN:VEVENT
UID:event40086@Tokyo Gig Guide
DTSTAMP:20260426T025654Z
CATEGORIES:Improvised
DESCRIPTION:Improvisation Workshop with Marcos Fernandes\nCategory: Improvi
 sed\nLink: https://www.tokyogigguide.com/index.php?option=com_jem&view=eve
 nt&id=40086:improvisation-workshop-with-marcos-fernandes&Itemid=1094\n
DTSTART:20260505T123000
DTEND:20260505T123000
LOCATION:Jazz Club Farout\,Fukutonicho\, Nishidori 51-2\, Nakaku\, Yokohama
 \,Kannai
SUMMARY:Improvisation Workshop with Marcos Fernandes
URL:https://www.tokyogigguide.com/index.php?option=com_jem&view=event&id=40
 086:improvisation-workshop-with-marcos-fernandes&Itemid=1094
END:VEVENT
END:VCALENDAR
