BEGIN:VCALENDAR
VERSION:2.0
PRODID:-//104.152.168.27//NONSGML kigkonsult.se iCalcreator 2.20//
CALSCALE:GREGORIAN
METHOD:PUBLISH
X-WR-TIMEZONE:Asia/Tokyo
BEGIN:VEVENT
UID:event40077@Tokyo Gig Guide
DTSTAMP:20260421T083253Z
CATEGORIES:Abstract\, Alternative\, Experimental\, Improvised
DESCRIPTION:TAMARU+Yasumune Morishige+Shibatetsu : Solo and trio\, acoustic
  improvisations\nCategory: Abstract\, Alternative\, Experimental\, Improvi
 sed\nLink: https://www.tokyogigguide.com/index.php?option=com_jem&view=eve
 nt&id=40077:tamaru-yasumune-morishige-shibatetsu-solo-and-trio-aoustic-imp
 rovisation&Itemid=1094\n
DTSTART:20260309T185500
DTEND:20260309T185500
LOCATION:Violon \,Suginami-ku Asagaya-Kita 2-9-5\, Tokyo\,Asagaya
SUMMARY:TAMARU+Yasumune Morishige+Shibatetsu : Solo and trio\, acoustic imp
 rovisations
URL:https://www.tokyogigguide.com/index.php?option=com_jem&view=event&id=40
 077:tamaru-yasumune-morishige-shibatetsu-solo-and-trio-aoustic-improvisati
 on&Itemid=1094
END:VEVENT
END:VCALENDAR
