BEGIN:VCALENDAR
VERSION:2.0
PRODID:-//104.152.168.27//NONSGML kigkonsult.se iCalcreator 2.20//
CALSCALE:GREGORIAN
METHOD:PUBLISH
X-WR-TIMEZONE:Asia/Tokyo
BEGIN:VEVENT
UID:event40070@Tokyo Gig Guide
DTSTAMP:20260423T151312Z
CATEGORIES:Avant garde\, Experimental\, Improvised\, Progressive
DESCRIPTION:Natsuki Kido\, Kenji Sato\, a_kira\, Tatsuya Yoshida\nCategory:
  Avant garde\, Experimental\, Improvised\, Progressive\nLink: https://www.
 tokyogigguide.com/index.php?option=com_jem&view=event&id=40070:natsuki-kid
 o-kenji-sato-a-kira-tatsuya-yoshida&Itemid=1094\n
DTSTART:20260515T183000
DTEND:20260515T183000
LOCATION:Cabin\,5F\, 2-7-23\, Nakacho\, Atsugi-shi\, Kanagawa\,Atsugi
SUMMARY:Natsuki Kido\, Kenji Sato\, a_kira\, Tatsuya Yoshida
URL:https://www.tokyogigguide.com/index.php?option=com_jem&view=event&id=40
 070:natsuki-kido-kenji-sato-a-kira-tatsuya-yoshida&Itemid=1094
END:VEVENT
END:VCALENDAR
