BEGIN:VCALENDAR
VERSION:2.0
PRODID:-//104.152.168.27//NONSGML kigkonsult.se iCalcreator 2.20//
CALSCALE:GREGORIAN
METHOD:PUBLISH
X-WR-TIMEZONE:Asia/Tokyo
BEGIN:VEVENT
UID:event40057@Tokyo Gig Guide
DTSTAMP:20260421T221213Z
CATEGORIES:Ambient\, Experimental
DESCRIPTION:hofli/TakashiTsuda: 津田貴司solo  星降る平原 2026\nCategory: Ambient\, E
 xperimental\nLink: https://www.tokyogigguide.com/index.php?option=com_jem&
 view=event&id=40057:hofli-takashitsuda-solo-2026&Itemid=1094\n
DTSTART:20260307T190000
DTEND:20260307T190000
LOCATION:OTOOTO\,B1\, 3-13-10 Kitazawa\, Setagayaku\,Higashi Kitazawa
SUMMARY:hofli/TakashiTsuda: 津田貴司solo  星降る平原 2026
URL:https://www.tokyogigguide.com/index.php?option=com_jem&view=event&id=40
 057:hofli-takashitsuda-solo-2026&Itemid=1094
END:VEVENT
END:VCALENDAR
