BEGIN:VCALENDAR
VERSION:2.0
PRODID:-//104.152.168.27//NONSGML kigkonsult.se iCalcreator 2.20//
CALSCALE:GREGORIAN
METHOD:PUBLISH
X-WR-TIMEZONE:Asia/Tokyo
BEGIN:VEVENT
UID:event40023@Tokyo Gig Guide
DTSTAMP:20260422T041727Z
CATEGORIES:Experimental\, Acoustic\, Avant garde\, Instrumental
DESCRIPTION:Taku Sugimoto\, Takashi Masubuchi\, Shintaro Tanaka\, Wakana Ik
 eda\, Kanon Aonami\nCategory: Experimental\, Acoustic\, Avant garde\, Inst
 rumental\nLink: https://www.tokyogigguide.com/index.php?option=com_jem&vie
 w=event&id=40023:taku-sugimoto-takashi-masubuchi-shintaro-tanaka-wakana-ik
 eda-kanon-aonami&Itemid=1094\n
DTSTART:20260309T193000
DTEND:20260309T193000
LOCATION:Ftarri\,Okano Bld.B1\, 1-4-11\, Hongo\, Bunkyo-ku\, Tokyo\,Suidoba
 shi
SUMMARY:Taku Sugimoto\, Takashi Masubuchi\, Shintaro Tanaka\, Wakana Ikeda\
 , Kanon Aonami
URL:https://www.tokyogigguide.com/index.php?option=com_jem&view=event&id=40
 023:taku-sugimoto-takashi-masubuchi-shintaro-tanaka-wakana-ikeda-kanon-aon
 ami&Itemid=1094
END:VEVENT
END:VCALENDAR
