BEGIN:VCALENDAR
VERSION:2.0
PRODID:-//104.152.168.27//NONSGML kigkonsult.se iCalcreator 2.20//
CALSCALE:GREGORIAN
METHOD:PUBLISH
X-WR-TIMEZONE:Asia/Tokyo
BEGIN:VEVENT
UID:event40022@Tokyo Gig Guide
DTSTAMP:20260426T013310Z
CATEGORIES:Instrumental\, Acoustic\, Experimental\, Avant garde
DESCRIPTION:Taku Sugimoto\, Takashi Masubuchi\, Shintaro Tanaka\, Wakana Ik
 eda\, Fumi Endo\nCategory: Instrumental\, Acoustic\, Experimental\, Avant 
 garde\nLink: https://www.tokyogigguide.com/index.php?option=com_jem&view=e
 vent&id=40022:taku-sugimoto-takashi-masubuchi-shintaro-tanaka-wakana-ikeda
 -fumi-endo&Itemid=1094\n
DTSTART:20260308T193000
DTEND:20260308T193000
LOCATION:Ftarri\,Okano Bld.B1\, 1-4-11\, Hongo\, Bunkyo-ku\, Tokyo\,Suidoba
 shi
SUMMARY:Taku Sugimoto\, Takashi Masubuchi\, Shintaro Tanaka\, Wakana Ikeda\
 , Fumi Endo
URL:https://www.tokyogigguide.com/index.php?option=com_jem&view=event&id=40
 022:taku-sugimoto-takashi-masubuchi-shintaro-tanaka-wakana-ikeda-fumi-endo
 &Itemid=1094
END:VEVENT
END:VCALENDAR
