BEGIN:VCALENDAR
VERSION:2.0
PRODID:-//104.152.168.27//NONSGML kigkonsult.se iCalcreator 2.20//
CALSCALE:GREGORIAN
METHOD:PUBLISH
X-WR-TIMEZONE:Asia/Tokyo
BEGIN:VEVENT
UID:event39983@Tokyo Gig Guide
DTSTAMP:20260421T160124Z
CATEGORIES:Experimental\, DJ\, Electronic\, Improvised\, Avant garde
DESCRIPTION:Dangertown\, Hans Tammen + Dafna Naphtali\, Ken Ikeda\nCategory
 : Experimental\, DJ\, Electronic\, Improvised\, Avant garde\nLink: https:/
 /www.tokyogigguide.com/index.php?option=com_jem&view=event&id=39983:danger
 town-hans-tammen-dafna-naphtali&Itemid=1094\n
DTSTART:20260320T190000
DTEND:20260320T190000
LOCATION:Knock (Koenji)\,Koenji Minami 3-48-6  B1F\,Koenji
SUMMARY:Dangertown\, Hans Tammen + Dafna Naphtali\, Ken Ikeda
URL:https://www.tokyogigguide.com/index.php?option=com_jem&view=event&id=39
 983:dangertown-hans-tammen-dafna-naphtali&Itemid=1094
END:VEVENT
END:VCALENDAR
