BEGIN:VCALENDAR
VERSION:2.0
PRODID:-//104.152.168.27//NONSGML kigkonsult.se iCalcreator 2.20//
CALSCALE:GREGORIAN
METHOD:PUBLISH
X-WR-TIMEZONE:Asia/Tokyo
BEGIN:VEVENT
UID:event39945@Tokyo Gig Guide
DTSTAMP:20260421T045921Z
CATEGORIES:Ambient\, Art\, DJ\, Electronic\, Psychedelic
DESCRIPTION:MORGAN'S ORGAN SPECIAL #2 - Morgan Fisher with Special Guest YU
 KA MIZUHARA (Tenori-On\, DJ\, voice)\nCategory: Ambient\, Art\, DJ\, Elect
 ronic\, Psychedelic\nLink: https://www.tokyogigguide.com/index.php?option=
 com_jem&view=event&id=39945:morgan-s-organ-special-2-morgan-fisher-with-sp
 ecial-guest-yuka-mizuhara-tenori-on-dj-voice&Itemid=1094\n
DTSTART:20260314T190000
DTEND:20260314T190000
LOCATION:Morgan Salon (CLOSED DOWN)
SUMMARY:MORGAN'S ORGAN SPECIAL #2 - Morgan Fisher with Special Guest YUKA M
 IZUHARA (Tenori-On\, DJ\, voice)
URL:https://www.tokyogigguide.com/index.php?option=com_jem&view=event&id=39
 945:morgan-s-organ-special-2-morgan-fisher-with-special-guest-yuka-mizuhar
 a-tenori-on-dj-voice&Itemid=1094
END:VEVENT
END:VCALENDAR
