BEGIN:VCALENDAR
VERSION:2.0
PRODID:-//104.152.168.27//NONSGML kigkonsult.se iCalcreator 2.20//
CALSCALE:GREGORIAN
METHOD:PUBLISH
X-WR-TIMEZONE:Asia/Tokyo
BEGIN:VEVENT
UID:event39937@Tokyo Gig Guide
DTSTAMP:20260422T145749Z
CATEGORIES:Experimental
DESCRIPTION:Hano Shoji (dr) + tabata mitsuru (g) + nakao kentarou (bass) TR
 IO\nCategory: Experimental\nLink: https://www.tokyogigguide.com/index.php?
 option=com_jem&view=event&id=39937:hano-shoji-dr-tabata-mitsuru-g-nakao-ke
 ntarou-bass-trio&Itemid=1094\n
DTSTART:20260326T190000
DTEND:20260326T190000
LOCATION:Chikyuya\,Kunitachi-shi Higashi 1-16-13 B1 \,Kunitachi
SUMMARY:Hano Shoji (dr) + tabata mitsuru (g) + nakao kentarou (bass) TRIO
URL:https://www.tokyogigguide.com/index.php?option=com_jem&view=event&id=39
 937:hano-shoji-dr-tabata-mitsuru-g-nakao-kentarou-bass-trio&Itemid=1094
END:VEVENT
END:VCALENDAR
