BEGIN:VCALENDAR
VERSION:2.0
PRODID:-//104.152.168.27//NONSGML kigkonsult.se iCalcreator 2.20//
CALSCALE:GREGORIAN
METHOD:PUBLISH
X-WR-TIMEZONE:Asia/Tokyo
BEGIN:VEVENT
UID:event39929@Tokyo Gig Guide
DTSTAMP:20260424T152026Z
CATEGORIES:Jazz
DESCRIPTION:KOJI SHIRAISHI QUARTET\nCategory: Jazz\nLink: https://www.tokyo
 gigguide.com/index.php?option=com_jem&view=event&id=39929:koji-shiraishi-q
 uartet&Itemid=1094\n
DTSTART:20260303T190000
DTEND:20260303T190000
LOCATION:Adirondack Cafe \,Tokyo\, Chiyodaku\, Kanda Jinbouchou 1-2-9 4F\,J
 imbocho
SUMMARY:KOJI SHIRAISHI QUARTET
URL:https://www.tokyogigguide.com/index.php?option=com_jem&view=event&id=39
 929:koji-shiraishi-quartet&Itemid=1094
END:VEVENT
END:VCALENDAR
