BEGIN:VCALENDAR
VERSION:2.0
PRODID:-//104.152.168.27//NONSGML kigkonsult.se iCalcreator 2.20//
CALSCALE:GREGORIAN
METHOD:PUBLISH
X-WR-TIMEZONE:Asia/Tokyo
BEGIN:VEVENT
UID:event39919@Tokyo Gig Guide
DTSTAMP:20260423T020316Z
CATEGORIES:Acoustic\, Experimental\, Improvised
DESCRIPTION:Nagasawa Tetsu (ds) Terupiano (p) DUO\nCategory: Acoustic\, Exp
 erimental\, Improvised\nLink: https://www.tokyogigguide.com/index.php?opti
 on=com_jem&view=event&id=39919:nagasawa-tetsu-ds-terupiano-p-duo&Itemid=10
 94\n
DTSTART:20260226T190000
DTEND:20260226T190000
LOCATION:Knuttel House\,4-1-8 Matsugaya\, Taito-ku\, Tokyo\,Iriya
SUMMARY:Nagasawa Tetsu (ds) Terupiano (p) DUO
URL:https://www.tokyogigguide.com/index.php?option=com_jem&view=event&id=39
 919:nagasawa-tetsu-ds-terupiano-p-duo&Itemid=1094
END:VEVENT
END:VCALENDAR
