BEGIN:VCALENDAR
VERSION:2.0
PRODID:-//104.152.168.27//NONSGML kigkonsult.se iCalcreator 2.20//
CALSCALE:GREGORIAN
METHOD:PUBLISH
X-WR-TIMEZONE:Asia/Tokyo
BEGIN:VEVENT
UID:event39914@Tokyo Gig Guide
DTSTAMP:20260421T101137Z
CATEGORIES:Avant garde\, Experimental\, Free Jazz\, Improvised\, Rock
DESCRIPTION:Trio of Fictional Soundtrack: TACHIBANA HIDEKI (as)\, YOSHIDA R
 YUICHI (bs)\, FUJIKAKE MASATAKA (ds)\nCategory: Avant garde\, Experimental
 \, Free Jazz\, Improvised\, Rock\nLink: https://www.tokyogigguide.com/inde
 x.php?option=com_jem&view=event&id=39914:trio-of-fictional-soundtrack-tach
 ibana-hideki-as-yoshida-ryuichi-bs-fujikake-masataka-ds&Itemid=1094\n
DTSTART:20260407T193000
DTEND:20260407T193000
LOCATION:Bar Isshee\,3-36-11-B1\, Sendagi\, Bunkyo-ku\,Sendagi
SUMMARY:Trio of Fictional Soundtrack: TACHIBANA HIDEKI (as)\, YOSHIDA RYUIC
 HI (bs)\, FUJIKAKE MASATAKA (ds)
URL:https://www.tokyogigguide.com/index.php?option=com_jem&view=event&id=39
 914:trio-of-fictional-soundtrack-tachibana-hideki-as-yoshida-ryuichi-bs-fu
 jikake-masataka-ds&Itemid=1094
END:VEVENT
END:VCALENDAR
