BEGIN:VCALENDAR
VERSION:2.0
PRODID:-//104.152.168.27//NONSGML kigkonsult.se iCalcreator 2.20//
CALSCALE:GREGORIAN
METHOD:PUBLISH
X-WR-TIMEZONE:Asia/Tokyo
BEGIN:VEVENT
UID:event39911@Tokyo Gig Guide
DTSTAMP:20260420T140012Z
CATEGORIES:Experimental\, Improvised\, Jazz\, Rock
DESCRIPTION:HAYASHI TETSUYA (guitar)\, ABE MASATAKE (bass)\, FUJIKAKE MASAT
 AKA (drums)\nCategory: Experimental\, Improvised\, Jazz\, Rock\nLink: http
 s://www.tokyogigguide.com/index.php?option=com_jem&view=event&id=39911:hay
 ashi-tetsuya-guitar-abe-masatake-bass-fujikake-masataka-drums&Itemid=1094
 \n
DTSTART:20260404T190000
DTEND:20260404T190000
LOCATION:Bar Isshee\,3-36-11-B1\, Sendagi\, Bunkyo-ku\,Sendagi
SUMMARY:HAYASHI TETSUYA (guitar)\, ABE MASATAKE (bass)\, FUJIKAKE MASATAKA 
 (drums)
URL:https://www.tokyogigguide.com/index.php?option=com_jem&view=event&id=39
 911:hayashi-tetsuya-guitar-abe-masatake-bass-fujikake-masataka-drums&Itemi
 d=1094
END:VEVENT
END:VCALENDAR
