BEGIN:VCALENDAR
VERSION:2.0
PRODID:-//104.152.168.27//NONSGML kigkonsult.se iCalcreator 2.20//
CALSCALE:GREGORIAN
METHOD:PUBLISH
X-WR-TIMEZONE:Asia/Tokyo
BEGIN:VEVENT
UID:event39909@Tokyo Gig Guide
DTSTAMP:20260425T113411Z
CATEGORIES:Avant garde\, Improvised\, Noise Rock\, Rock
DESCRIPTION:HONNOMAJIKA~NAHARU: ラピス (LAPIZ) (g\, vo)\, ヒゴヒロシ (HIGO HIROSHI)
  (b\, vo)\, 藤掛正隆 (FUJIKAKE MASATAKA) (ds)\nCategory: Avant garde\, Improvi
 sed\, Noise Rock\, Rock\nLink: https://www.tokyogigguide.com/index.php?opt
 ion=com_jem&view=event&id=39909:honnomajika-naharu-lapiz-g-vo-higo-hiroshi
 -b-vo-fujikake-masataka-ds&Itemid=1094\n
DTSTART:20260319T190000
DTEND:20260319T190000
LOCATION:Aja\,Kaneko Building B1\, 2-21-5 Chuo\, Nakano-ku\, Tokyo\,Nakano-
 sakaue
SUMMARY:HONNOMAJIKA~NAHARU: ラピス (LAPIZ) (g\, vo)\, ヒゴヒロシ (HIGO HIROSHI) (b\
 , vo)\, 藤掛正隆 (FUJIKAKE MASATAKA) (ds)
URL:https://www.tokyogigguide.com/index.php?option=com_jem&view=event&id=39
 909:honnomajika-naharu-lapiz-g-vo-higo-hiroshi-b-vo-fujikake-masataka-ds&I
 temid=1094
END:VEVENT
END:VCALENDAR
