BEGIN:VCALENDAR
VERSION:2.0
PRODID:-//104.152.168.27//NONSGML kigkonsult.se iCalcreator 2.20//
CALSCALE:GREGORIAN
METHOD:PUBLISH
X-WR-TIMEZONE:Asia/Tokyo
BEGIN:VEVENT
UID:event39906@Tokyo Gig Guide
DTSTAMP:20260426T035917Z
CATEGORIES:Alternative\, Indie-Rock\, Power Pop\, Punk
DESCRIPTION:MEGA X\nCategory: Alternative\, Indie-Rock\, Power Pop\, Punk\n
 Link: https://www.tokyogigguide.com/index.php?option=com_jem&view=event&id
 =39906:mega-x&Itemid=1094\n
DTSTART:20260619T193000
DTEND:20260619T193000
LOCATION:Shelter\,Senda Building\, B1 2-6-10\, Shimokitazawa\,Shimokitazawa
SUMMARY:MEGA X
URL:https://www.tokyogigguide.com/index.php?option=com_jem&view=event&id=39
 906:mega-x&Itemid=1094
END:VEVENT
END:VCALENDAR
