BEGIN:VCALENDAR
VERSION:2.0
PRODID:-//104.152.168.27//NONSGML kigkonsult.se iCalcreator 2.20//
CALSCALE:GREGORIAN
METHOD:PUBLISH
X-WR-TIMEZONE:Asia/Tokyo
BEGIN:VEVENT
UID:event39900@Tokyo Gig Guide
DTSTAMP:20260419T192751Z
CATEGORIES:DJ\, Experimental\, Improvised
DESCRIPTION:Akio Jeimus x Ben Willis\, DJ mio (tangle)\nCategory: DJ\, Expe
 rimental\, Improvised\nLink: https://www.tokyogigguide.com/index.php?optio
 n=com_jem&view=event&id=39900:live-akio-jeimus-x-ben-willis-dj-mio-tangle&
 Itemid=1094\n
DTSTART:20260307T200000
DTEND:20260307T200000
LOCATION:Oriental Force\,#8 Nitto Build. B1\, Koenji-Minami 3-38-6\,Koenji
SUMMARY:Akio Jeimus x Ben Willis\, DJ mio (tangle)
URL:https://www.tokyogigguide.com/index.php?option=com_jem&view=event&id=39
 900:live-akio-jeimus-x-ben-willis-dj-mio-tangle&Itemid=1094
END:VEVENT
END:VCALENDAR
