BEGIN:VCALENDAR
VERSION:2.0
PRODID:-//104.152.168.27//NONSGML kigkonsult.se iCalcreator 2.20//
CALSCALE:GREGORIAN
METHOD:PUBLISH
X-WR-TIMEZONE:Asia/Tokyo
BEGIN:VEVENT
UID:event39895@Tokyo Gig Guide
DTSTAMP:20260421T111610Z
CATEGORIES:Alternative\, Experimental\, Free Jazz\, Garage Rock\, Indie-Roc
 k
DESCRIPTION:Pangaea Four (Haru Miyazawa x Keisuke Nakagawa x Daisuke Okuzum
 i x Arata Ogawa)\, Motomu. Miura\, Akira Naito\nCategory: Alternative\, Ex
 perimental\, Free Jazz\, Garage Rock\, Indie-Rock\nLink: https://www.tokyo
 gigguide.com/index.php?option=com_jem&view=event&id=39895:pangaea-four-har
 u-miyazawa-x-keisuke-nakagawa-x-daisuke-okuzumi-x-arata-ogawa-motomu-miura
 -akira-naito&Itemid=1094\n
DTSTART:20260326T193000
DTEND:20260326T193000
LOCATION:Oriental Force\,#8 Nitto Build. B1\, Koenji-Minami 3-38-6\,Koenji
SUMMARY:Pangaea Four (Haru Miyazawa x Keisuke Nakagawa x Daisuke Okuzumi x 
 Arata Ogawa)\, Motomu. Miura\, Akira Naito
URL:https://www.tokyogigguide.com/index.php?option=com_jem&view=event&id=39
 895:pangaea-four-haru-miyazawa-x-keisuke-nakagawa-x-daisuke-okuzumi-x-arat
 a-ogawa-motomu-miura-akira-naito&Itemid=1094
END:VEVENT
END:VCALENDAR
