BEGIN:VCALENDAR
VERSION:2.0
PRODID:-//104.152.168.27//NONSGML kigkonsult.se iCalcreator 2.20//
CALSCALE:GREGORIAN
METHOD:PUBLISH
X-WR-TIMEZONE:Asia/Tokyo
BEGIN:VEVENT
UID:event39891@Tokyo Gig Guide
DTSTAMP:20260421T171503Z
CATEGORIES:Ambient\, Electronic\, Experimental\, Improvised
DESCRIPTION:yk (Hello1103)\, big joe\, Motomu. Miura\, eifone\nCategory: Am
 bient\, Electronic\, Experimental\, Improvised\nLink: https://www.tokyogig
 guide.com/index.php?option=com_jem&view=event&id=39891:live-yk-hello1103-b
 ig-joe-motomu-miura-eifone&Itemid=1094\n
DTSTART:20260318T190000
DTEND:20260318T190000
LOCATION:Oriental Force\,#8 Nitto Build. B1\, Koenji-Minami 3-38-6\,Koenji
SUMMARY:yk (Hello1103)\, big joe\, Motomu. Miura\, eifone
URL:https://www.tokyogigguide.com/index.php?option=com_jem&view=event&id=39
 891:live-yk-hello1103-big-joe-motomu-miura-eifone&Itemid=1094
END:VEVENT
END:VCALENDAR
