BEGIN:VCALENDAR
VERSION:2.0
PRODID:-//104.152.168.27//NONSGML kigkonsult.se iCalcreator 2.20//
CALSCALE:GREGORIAN
METHOD:PUBLISH
X-WR-TIMEZONE:Asia/Tokyo
BEGIN:VEVENT
UID:event39885@Tokyo Gig Guide
DTSTAMP:20260425T115657Z
CATEGORIES:Electro\, Experimental\, Improvised\, World
DESCRIPTION:Yi-Wei Yang (From Taiwan)\, Snake Slash (Maymae x Hiko)\, Giova
 nni Ono x Kaori Komura\, Darklaw\, Yoshiko Honda\nCategory: Electro\, Expe
 rimental\, Improvised\, World\nLink: https://www.tokyogigguide.com/index.p
 hp?option=com_jem&view=event&id=39885:yi-wei-yang-from-taiwan-snake-slash-
 maymae-x-hiko-giovanni-ono-x-kaori-komura-darklaw-yoshiko-honda&Itemid=109
 4\n
DTSTART:20260330T183000
DTEND:20260330T183000
LOCATION:Oriental Force\,#8 Nitto Build. B1\, Koenji-Minami 3-38-6\,Koenji
SUMMARY:Yi-Wei Yang (From Taiwan)\, Snake Slash (Maymae x Hiko)\, Giovanni 
 Ono x Kaori Komura\, Darklaw\, Yoshiko Honda
URL:https://www.tokyogigguide.com/index.php?option=com_jem&view=event&id=39
 885:yi-wei-yang-from-taiwan-snake-slash-maymae-x-hiko-giovanni-ono-x-kaori
 -komura-darklaw-yoshiko-honda&Itemid=1094
END:VEVENT
END:VCALENDAR
