BEGIN:VCALENDAR
VERSION:2.0
PRODID:-//104.152.168.27//NONSGML kigkonsult.se iCalcreator 2.20//
CALSCALE:GREGORIAN
METHOD:PUBLISH
X-WR-TIMEZONE:Asia/Tokyo
BEGIN:VEVENT
UID:event39883@Tokyo Gig Guide
DTSTAMP:20260422T090221Z
CATEGORIES:Art-Pop\, DJ\, Electro\, Electronic
DESCRIPTION:Arisu x Maya (From Latvia)\, spāre (From Latvia)\, Worship feat
 . Mizuki Kawashiro\, Marc Lowe\nCategory: Art-Pop\, DJ\, Electro\, Electro
 nic\nLink: https://www.tokyogigguide.com/index.php?option=com_jem&view=eve
 nt&id=39883:arisu-x-maya-from-latovia-spare-from-latovia-worship-feat-mizu
 ki-kawashiro-marc-lowe&Itemid=1094\n
DTSTART:20260315T180000
DTEND:20260315T180000
LOCATION:Oriental Force\,#8 Nitto Build. B1\, Koenji-Minami 3-38-6\,Koenji
SUMMARY:Arisu x Maya (From Latvia)\, spāre (From Latvia)\, Worship feat. Mi
 zuki Kawashiro\, Marc Lowe
URL:https://www.tokyogigguide.com/index.php?option=com_jem&view=event&id=39
 883:arisu-x-maya-from-latovia-spare-from-latovia-worship-feat-mizuki-kawas
 hiro-marc-lowe&Itemid=1094
END:VEVENT
END:VCALENDAR
