BEGIN:VCALENDAR
VERSION:2.0
PRODID:-//104.152.168.27//NONSGML kigkonsult.se iCalcreator 2.20//
CALSCALE:GREGORIAN
METHOD:PUBLISH
X-WR-TIMEZONE:Asia/Tokyo
BEGIN:VEVENT
UID:event39880@Tokyo Gig Guide
DTSTAMP:20260422T195649Z
CATEGORIES:Improvised
DESCRIPTION:Daiki Yoshii [幽体コミニケーションズ] (guitar)\, Ishimaru Kato [Kiima Kari
 is] (guitar)\, Soaki Tsuchitani (guitar)\nCategory: Improvised\nLink: http
 s://www.tokyogigguide.com/index.php?option=com_jem&view=event&id=39880:dai
 ki-yoshii-guitar-ishimaru-kato-kiima-kariis-guitar-soaki-tsuchitani-guitar
 &Itemid=1094\n
DTSTART:20260316T190000
DTEND:20260316T190000
LOCATION:POLARIS\,6-2-10 Minami-Aoyama\, Minato-ku\, Tokyo\,Minami-Aoyama
SUMMARY:Daiki Yoshii [幽体コミニケーションズ] (guitar)\, Ishimaru Kato [Kiima Kariis] 
 (guitar)\, Soaki Tsuchitani (guitar)
URL:https://www.tokyogigguide.com/index.php?option=com_jem&view=event&id=39
 880:daiki-yoshii-guitar-ishimaru-kato-kiima-kariis-guitar-soaki-tsuchitani
 -guitar&Itemid=1094
END:VEVENT
END:VCALENDAR
