BEGIN:VCALENDAR
VERSION:2.0
PRODID:-//104.152.168.27//NONSGML kigkonsult.se iCalcreator 2.20//
CALSCALE:GREGORIAN
METHOD:PUBLISH
X-WR-TIMEZONE:Asia/Tokyo
BEGIN:VEVENT
UID:event39879@Tokyo Gig Guide
DTSTAMP:20260423T040949Z
CATEGORIES:Alternative\, Punk
DESCRIPTION:Sugar Yoshinaga [Buffalo Daughter] (guitar)\, Keisaku Nakamura 
 (keyboard)\, SEI NAGAHATA [NUITO\, kanekoayano] (drums)\nCategory: Alterna
 tive\, Punk\nLink: https://www.tokyogigguide.com/index.php?option=com_jem&
 view=event&id=39879:sugar-yoshinaga-buffalo-daughter-guitar-keisaku-nakamu
 ra-keyboard-sei-nagahata-nuito-kanekoayano-drums&Itemid=1094\n
DTSTART:20260312T190000
DTEND:20260312T190000
LOCATION:POLARIS\,6-2-10 Minami-Aoyama\, Minato-ku\, Tokyo\,Minami-Aoyama
SUMMARY:Sugar Yoshinaga [Buffalo Daughter] (guitar)\, Keisaku Nakamura (key
 board)\, SEI NAGAHATA [NUITO\, kanekoayano] (drums)
URL:https://www.tokyogigguide.com/index.php?option=com_jem&view=event&id=39
 879:sugar-yoshinaga-buffalo-daughter-guitar-keisaku-nakamura-keyboard-sei-
 nagahata-nuito-kanekoayano-drums&Itemid=1094
END:VEVENT
END:VCALENDAR
