BEGIN:VCALENDAR
VERSION:2.0
PRODID:-//104.152.168.27//NONSGML kigkonsult.se iCalcreator 2.20//
CALSCALE:GREGORIAN
METHOD:PUBLISH
X-WR-TIMEZONE:Asia/Tokyo
BEGIN:VEVENT
UID:event39852@Tokyo Gig Guide
DTSTAMP:20260420T164046Z
CATEGORIES:Avant garde\, Experimental\, Noise\, Unclassifiable
DESCRIPTION:MANIAORGAN DRUM'N'BASS DOUBLE DUO (マニアオルガン + 麻生智之 + 野田真男 + 佐伯武昇
 )\, ひしょちイシバシ & 小林祐司 & 荒川堅志郎\, viddekazz2\, balancE\nCategory: Avant garde\
 , Experimental\, Noise\, Unclassifiable\nLink: https://www.tokyogigguide.c
 om/index.php?option=com_jem&view=event&id=39852:maniaorgan-drum-n-bass-dou
 ble-duo-viddekazz2-balance&Itemid=1094\n
DTSTART:20260301T190000
DTEND:20260301T190000
LOCATION:Ten (天)\,Asagaya-kita 2-1-5 B1F\,Asagaya
SUMMARY:MANIAORGAN DRUM'N'BASS DOUBLE DUO (マニアオルガン + 麻生智之 + 野田真男 + 佐伯武昇)\, 
 ひしょちイシバシ & 小林祐司 & 荒川堅志郎\, viddekazz2\, balancE
URL:https://www.tokyogigguide.com/index.php?option=com_jem&view=event&id=39
 852:maniaorgan-drum-n-bass-double-duo-viddekazz2-balance&Itemid=1094
END:VEVENT
END:VCALENDAR
