BEGIN:VCALENDAR
VERSION:2.0
PRODID:-//104.152.168.27//NONSGML kigkonsult.se iCalcreator 2.20//
CALSCALE:GREGORIAN
METHOD:PUBLISH
X-WR-TIMEZONE:Asia/Tokyo
BEGIN:VEVENT
UID:event39849@Tokyo Gig Guide
DTSTAMP:20260421T190250Z
CATEGORIES:Ambient\, DJ\, Experimental\, Improvised\, Instrumental
DESCRIPTION:Ayane Sato\, Kari Takemoto\, oi\, Sue Sang\, Jun Kitamura\nCate
 gory: Ambient\, DJ\, Experimental\, Improvised\, Instrumental\nLink: https
 ://www.tokyogigguide.com/index.php?option=com_jem&view=event&id=39849:ayan
 e-sato-kari-takemoto-oi-sue-sang-jun-kitamura&Itemid=1094\n
DTSTART:20260307T190000
DTEND:20260307T190000
LOCATION:Knock (Koenji)\,Koenji Minami 3-48-6  B1F\,Koenji
SUMMARY:Ayane Sato\, Kari Takemoto\, oi\, Sue Sang\, Jun Kitamura
URL:https://www.tokyogigguide.com/index.php?option=com_jem&view=event&id=39
 849:ayane-sato-kari-takemoto-oi-sue-sang-jun-kitamura&Itemid=1094
END:VEVENT
END:VCALENDAR
