BEGIN:VCALENDAR
VERSION:2.0
PRODID:-//104.152.168.27//NONSGML kigkonsult.se iCalcreator 2.20//
CALSCALE:GREGORIAN
METHOD:PUBLISH
X-WR-TIMEZONE:Asia/Tokyo
BEGIN:VEVENT
UID:event39839@Tokyo Gig Guide
DTSTAMP:20260421T174149Z
CATEGORIES:Acoustic\, Alternative\, Experimental\, Improvised\, Instrumenta
 l
DESCRIPTION:Trio improviation Masashi Yamamoto (contrabass) + Tetsu Nagasaw
 a (drums) + shibatetsu (electronic keyboard\, etc...)\nCategory: Acoustic\
 , Alternative\, Experimental\, Improvised\, Instrumental\nLink: https://ww
 w.tokyogigguide.com/index.php?option=com_jem&view=event&id=39839:trio-impr
 oviation-masashi-yamamoto-contrabass-tetsu-nagasawa-drums-shibatetsu-elect
 ronic-keyboards-piano-cowbell&Itemid=1094\n
DTSTART:20260221T193000
DTEND:20260221T193000
LOCATION:Ftarri\,Okano Bld.B1\, 1-4-11\, Hongo\, Bunkyo-ku\, Tokyo\,Suidoba
 shi
SUMMARY:Trio improviation Masashi Yamamoto (contrabass) + Tetsu Nagasawa (d
 rums) + shibatetsu (electronic keyboard\, etc...)
URL:https://www.tokyogigguide.com/index.php?option=com_jem&view=event&id=39
 839:trio-improviation-masashi-yamamoto-contrabass-tetsu-nagasawa-drums-shi
 batetsu-electronic-keyboards-piano-cowbell&Itemid=1094
END:VEVENT
END:VCALENDAR
