BEGIN:VCALENDAR
VERSION:2.0
PRODID:-//104.152.168.27//NONSGML kigkonsult.se iCalcreator 2.20//
CALSCALE:GREGORIAN
METHOD:PUBLISH
X-WR-TIMEZONE:Asia/Tokyo
BEGIN:VEVENT
UID:event39776@Tokyo Gig Guide
DTSTAMP:20260421T050246Z
CATEGORIES:Abstract\, Avant garde\, Experimental\, Free Jazz\, Improvised
DESCRIPTION:Kawol SamarQandi + Maresuke\nCategory: Abstract\, Avant garde\,
  Experimental\, Free Jazz\, Improvised\nLink: https://www.tokyogigguide.co
 m/index.php?option=com_jem&view=event&id=39776:just-improv-kawol-samarqand
 i-maresuke-810-outfit-cafe&Itemid=1094\n
DTSTART:20260228T133000
DTEND:20260228T133000
LOCATION:810 OUTFIT café \,Kyonan-cho 2-8-6-103\, Musashino City\, Tokyo\,M
 usashi Sakai
SUMMARY:Kawol SamarQandi + Maresuke
URL:https://www.tokyogigguide.com/index.php?option=com_jem&view=event&id=39
 776:just-improv-kawol-samarqandi-maresuke-810-outfit-cafe&Itemid=1094
END:VEVENT
END:VCALENDAR
