BEGIN:VCALENDAR
VERSION:2.0
PRODID:-//104.152.168.27//NONSGML kigkonsult.se iCalcreator 2.20//
CALSCALE:GREGORIAN
METHOD:PUBLISH
X-WR-TIMEZONE:Asia/Tokyo
BEGIN:VEVENT
UID:event39745@Tokyo Gig Guide
DTSTAMP:20260424T213536Z
CATEGORIES:Acoustic\, Alternative\, Experimental\, Shoegaze
DESCRIPTION:Akira Naito\, Yoichi Yukawa\, Yoshitaka Okuzumi\, eifone\, Mint
 \nCategory: Acoustic\, Alternative\, Experimental\, Shoegaze\nLink: https:
 //www.tokyogigguide.com/index.php?option=com_jem&view=event&id=39745:live-
 akira-naito-yoichi-yukawa-yoshitaka-okuzumi-eifone-mint&Itemid=1094\n
DTSTART:20260313T183000
DTEND:20260313T183000
LOCATION:Oriental Force\,#8 Nitto Build. B1\, Koenji-Minami 3-38-6\,Koenji
SUMMARY:Akira Naito\, Yoichi Yukawa\, Yoshitaka Okuzumi\, eifone\, Mint
URL:https://www.tokyogigguide.com/index.php?option=com_jem&view=event&id=39
 745:live-akira-naito-yoichi-yukawa-yoshitaka-okuzumi-eifone-mint&Itemid=10
 94
END:VEVENT
END:VCALENDAR
