BEGIN:VCALENDAR
VERSION:2.0
PRODID:-//104.152.168.27//NONSGML kigkonsult.se iCalcreator 2.20//
CALSCALE:GREGORIAN
METHOD:PUBLISH
X-WR-TIMEZONE:Asia/Tokyo
BEGIN:VEVENT
UID:event39742@Tokyo Gig Guide
DTSTAMP:20260426T021951Z
CATEGORIES:DJ\, Electro\, Electronic\, Hip-Hop
DESCRIPTION:Quviokal\, Room 207 a.k.a. The By-Go-Shinin\, Aizen 92\, Shiki 
 Tokyo Unopened\, Takahata\, 4563\, tak8u\nCategory: DJ\, Electro\, Electro
 nic\, Hip-Hop\nLink: https://www.tokyogigguide.com/index.php?option=com_je
 m&view=event&id=39742:dj-quviokal-live-room-207-a-k-a-the-by-go-shinin-aiz
 en-92-shiki-tokyo-unopened-takahata-4563-tak8u&Itemid=1094\n
DTSTART:20260308T130000
DTEND:20260308T130000
LOCATION:Oriental Force\,#8 Nitto Build. B1\, Koenji-Minami 3-38-6\,Koenji
SUMMARY:Quviokal\, Room 207 a.k.a. The By-Go-Shinin\, Aizen 92\, Shiki Toky
 o Unopened\, Takahata\, 4563\, tak8u
URL:https://www.tokyogigguide.com/index.php?option=com_jem&view=event&id=39
 742:dj-quviokal-live-room-207-a-k-a-the-by-go-shinin-aizen-92-shiki-tokyo-
 unopened-takahata-4563-tak8u&Itemid=1094
END:VEVENT
END:VCALENDAR
