BEGIN:VCALENDAR
VERSION:2.0
PRODID:-//104.152.168.27//NONSGML kigkonsult.se iCalcreator 2.20//
CALSCALE:GREGORIAN
METHOD:PUBLISH
X-WR-TIMEZONE:Asia/Tokyo
BEGIN:VEVENT
UID:event39741@Tokyo Gig Guide
DTSTAMP:20260421T200658Z
CATEGORIES:Avant garde\, Electro-Pop\, Experimental\, Improvised\, World
DESCRIPTION:Masanobu Yoshimura x Hitomi Umezawa\, In meditation (Chan Yama 
 x Nobunaga Ken)\, KANABAND\, Arata Ogawa\nCategory: Avant garde\, Electro-
 Pop\, Experimental\, Improvised\, World\nLink: https://www.tokyogigguide.c
 om/index.php?option=com_jem&view=event&id=39741:live-masanobu-yoshimura-x-
 hitomi-umezawa-in-meditation-chan-yama-x-nobunaga-ken-kanaband-arata-ogawa
 &Itemid=1094\n
DTSTART:20260306T190000
DTEND:20260306T190000
LOCATION:Oriental Force\,#8 Nitto Build. B1\, Koenji-Minami 3-38-6\,Koenji
SUMMARY:Masanobu Yoshimura x Hitomi Umezawa\, In meditation (Chan Yama x No
 bunaga Ken)\, KANABAND\, Arata Ogawa
URL:https://www.tokyogigguide.com/index.php?option=com_jem&view=event&id=39
 741:live-masanobu-yoshimura-x-hitomi-umezawa-in-meditation-chan-yama-x-nob
 unaga-ken-kanaband-arata-ogawa&Itemid=1094
END:VEVENT
END:VCALENDAR
