BEGIN:VCALENDAR
VERSION:2.0
PRODID:-//104.152.168.27//NONSGML kigkonsult.se iCalcreator 2.20//
CALSCALE:GREGORIAN
METHOD:PUBLISH
X-WR-TIMEZONE:Asia/Tokyo
BEGIN:VEVENT
UID:event39738@Tokyo Gig Guide
DTSTAMP:20260420T021723Z
CATEGORIES:Avant garde\, DJ\, Experimental\, Industrial\, Noise
DESCRIPTION:Osorezan β (Tamotsu Mochida x DJ TKD)\, Jun Okubo x Shizuo Uchi
 da\, IoT (Takeshi Gouda x WATANABE @ XXX)\nCategory: Avant garde\, DJ\, Ex
 perimental\, Industrial\, Noise\nLink: https://www.tokyogigguide.com/index
 .php?option=com_jem&view=event&id=39738:live-osorezan-tamotsu-mochida-x-dj
 -tkd-jun-okubo-x-shizuo-uchida-iot-takeshi-gouda-x-watanabe-xxx&Itemid=109
 4\n
DTSTART:20260227T190000
DTEND:20260227T190000
LOCATION:Oriental Force\,#8 Nitto Build. B1\, Koenji-Minami 3-38-6\,Koenji
SUMMARY:Osorezan β (Tamotsu Mochida x DJ TKD)\, Jun Okubo x Shizuo Uchida\,
  IoT (Takeshi Gouda x WATANABE @ XXX)
URL:https://www.tokyogigguide.com/index.php?option=com_jem&view=event&id=39
 738:live-osorezan-tamotsu-mochida-x-dj-tkd-jun-okubo-x-shizuo-uchida-iot-t
 akeshi-gouda-x-watanabe-xxx&Itemid=1094
END:VEVENT
END:VCALENDAR
