BEGIN:VCALENDAR
VERSION:2.0
PRODID:-//104.152.168.27//NONSGML kigkonsult.se iCalcreator 2.20//
CALSCALE:GREGORIAN
METHOD:PUBLISH
X-WR-TIMEZONE:Asia/Tokyo
BEGIN:VEVENT
UID:event39732@Tokyo Gig Guide
DTSTAMP:20260422T131951Z
CATEGORIES:Alternative\, Avant garde\, Improvised\, Instrumental\, Progress
 ive
DESCRIPTION:Korekyojinn (Natsuki Kido\, Kei Koganemaru\, Tatsuya Yoshida)\n
 Category: Alternative\, Avant garde\, Improvised\, Instrumental\, Progress
 ive\nLink: https://www.tokyogigguide.com/index.php?option=com_jem&view=eve
 nt&id=39732:korekyojinn-natsuki-kido-kei-koganemaru-tatsuya-yoshida&Itemid
 =1094\n
DTSTART:20260513T190000
DTEND:20260513T190000
LOCATION:Silver Elephant\,2-10-6 B1\, Kichijoji Honmachi\,Kichijoji
SUMMARY:Korekyojinn (Natsuki Kido\, Kei Koganemaru\, Tatsuya Yoshida)
URL:https://www.tokyogigguide.com/index.php?option=com_jem&view=event&id=39
 732:korekyojinn-natsuki-kido-kei-koganemaru-tatsuya-yoshida&Itemid=1094
END:VEVENT
END:VCALENDAR
