BEGIN:VCALENDAR
VERSION:2.0
PRODID:-//104.152.168.27//NONSGML kigkonsult.se iCalcreator 2.20//
CALSCALE:GREGORIAN
METHOD:PUBLISH
X-WR-TIMEZONE:Asia/Tokyo
BEGIN:VEVENT
UID:event39716@Tokyo Gig Guide
DTSTAMP:20260423T170636Z
CATEGORIES:Alternative\, Experimental\, Improvised\, Noise
DESCRIPTION:MoE (Norway)\, Masahiro Tobita\nCategory: Alternative\, Experim
 ental\, Improvised\, Noise\nLink: https://www.tokyogigguide.com/index.php?
 option=com_jem&view=event&id=39716:moe-norway-masahiro-tobita&Itemid=1094
 \n
DTSTART:20260222T193000
DTEND:20260222T193000
LOCATION:Bar Isshee\,3-36-11-B1\, Sendagi\, Bunkyo-ku\,Sendagi
SUMMARY:MoE (Norway)\, Masahiro Tobita
URL:https://www.tokyogigguide.com/index.php?option=com_jem&view=event&id=39
 716:moe-norway-masahiro-tobita&Itemid=1094
END:VEVENT
END:VCALENDAR
