BEGIN:VCALENDAR
VERSION:2.0
PRODID:-//104.152.168.27//NONSGML kigkonsult.se iCalcreator 2.20//
CALSCALE:GREGORIAN
METHOD:PUBLISH
X-WR-TIMEZONE:Asia/Tokyo
BEGIN:VEVENT
UID:event39673@Tokyo Gig Guide
DTSTAMP:20260421T184206Z
CATEGORIES:Abstract\, Avant garde\, Experimental\, Free Jazz\, Improvised
DESCRIPTION:Kawol SamarQandi solo improv\nCategory: Abstract\, Avant garde\
 , Experimental\, Free Jazz\, Improvised\nLink: https://www.tokyogigguide.c
 om/index.php?option=com_jem&view=event&id=39673:kawol-samarqandi-solo-impr
 ov-at-yokohama-airegin-episode-56-the-boundary-between-words-and-music&Ite
 mid=1094\n
DTSTART:20260305T183000
DTEND:20260305T183000
LOCATION:Airegin\,5-60 Sumiyoshi-cho\, Naka-ku\, Yokohama\, Kanagawa\,Yokoh
 ama
SUMMARY:Kawol SamarQandi solo improv
URL:https://www.tokyogigguide.com/index.php?option=com_jem&view=event&id=39
 673:kawol-samarqandi-solo-improv-at-yokohama-airegin-episode-56-the-bounda
 ry-between-words-and-music&Itemid=1094
END:VEVENT
END:VCALENDAR
