BEGIN:VCALENDAR
VERSION:2.0
PRODID:-//104.152.168.27//NONSGML kigkonsult.se iCalcreator 2.20//
CALSCALE:GREGORIAN
METHOD:PUBLISH
X-WR-TIMEZONE:Asia/Tokyo
BEGIN:VEVENT
UID:event39666@Tokyo Gig Guide
DTSTAMP:20260423T203859Z
CATEGORIES:New Wave\, Psychedelic\, Punk\, Rock\, Rock n Roll
DESCRIPTION:Sister Paul\, BO-PEEP\, MARBLE SHEEP\nCategory: New Wave\, Psyc
 hedelic\, Punk\, Rock\, Rock n Roll\nLink: https://www.tokyogigguide.com/i
 ndex.php?option=com_jem&view=event&id=39666:sister-paul-bo-peep-marble-she
 ep&Itemid=1094\n
DTSTART:20260312T190000
DTEND:20260312T190000
LOCATION:Zone-B\,Shinjukuku\, Kikuicho 2 APA Building B1 & B2\,Waseda
SUMMARY:Sister Paul\, BO-PEEP\, MARBLE SHEEP
URL:https://www.tokyogigguide.com/index.php?option=com_jem&view=event&id=39
 666:sister-paul-bo-peep-marble-sheep&Itemid=1094
END:VEVENT
END:VCALENDAR
