BEGIN:VCALENDAR
VERSION:2.0
PRODID:-//104.152.168.27//NONSGML kigkonsult.se iCalcreator 2.20//
CALSCALE:GREGORIAN
METHOD:PUBLISH
X-WR-TIMEZONE:Asia/Tokyo
BEGIN:VEVENT
UID:event39620@Tokyo Gig Guide
DTSTAMP:20260423T123431Z
CATEGORIES:Dub\, Electronic\, Experimental\, Industrial\, Noise
DESCRIPTION:Brian Fog (from Canada)\, △△△\, entangle (Atsuhiro Ito + Iwa-Mo
 tor)\, BAY CITY ROLAZ\, Evil Penguin\nCategory: Dub\, Electronic\, Experim
 ental\, Industrial\, Noise\nLink: https://www.tokyogigguide.com/index.php?
 option=com_jem&view=event&id=39620:brian-fog-from-canada-entangle-atsuhiro
 -ito-iwa-motor-bay-city-rolaz-evil-penguin&Itemid=1094\n
DTSTART:20260216T193000
DTEND:20260216T193000
LOCATION:Forestlimit\,B1F Hatagaya KODA Bldg\, 2-8-15 Hatagaya\, Shibuyaku\
 ,Hatagaya
SUMMARY:Brian Fog (from Canada)\, △△△\, entangle (Atsuhiro Ito + Iwa-Motor)
 \, BAY CITY ROLAZ\, Evil Penguin
URL:https://www.tokyogigguide.com/index.php?option=com_jem&view=event&id=39
 620:brian-fog-from-canada-entangle-atsuhiro-ito-iwa-motor-bay-city-rolaz-e
 vil-penguin&Itemid=1094
END:VEVENT
END:VCALENDAR
