BEGIN:VCALENDAR
VERSION:2.0
PRODID:-//104.152.168.27//NONSGML kigkonsult.se iCalcreator 2.20//
CALSCALE:GREGORIAN
METHOD:PUBLISH
X-WR-TIMEZONE:Asia/Tokyo
BEGIN:VEVENT
UID:event39594@Tokyo Gig Guide
DTSTAMP:20260422T022530Z
CATEGORIES:Experimental\, Improvised\, Noise Rock
DESCRIPTION:Shoji Hano (drums)\, Mitsuru Tabata (electric guitar)\, Cal Lya
 ll (baritone guitar)\nCategory: Experimental\, Improvised\, Noise Rock\nLi
 nk: https://www.tokyogigguide.com/index.php?option=com_jem&view=event&id=3
 9594:shoji-hano-drums-mitsuru-tabata-electric-guitar-cal-lyall-baritone-gu
 itar&Itemid=1094\n
DTSTART:20260306T190000
DTEND:20260306T190000
LOCATION:Chitei\,Kita-Otsuka 1-14-6 B1\, Toshima-ku\, Tokyo\,Otsuka
SUMMARY:Shoji Hano (drums)\, Mitsuru Tabata (electric guitar)\, Cal Lyall (
 baritone guitar)
URL:https://www.tokyogigguide.com/index.php?option=com_jem&view=event&id=39
 594:shoji-hano-drums-mitsuru-tabata-electric-guitar-cal-lyall-baritone-gui
 tar&Itemid=1094
END:VEVENT
END:VCALENDAR
