BEGIN:VCALENDAR
VERSION:2.0
PRODID:-//104.152.168.27//NONSGML kigkonsult.se iCalcreator 2.20//
CALSCALE:GREGORIAN
METHOD:PUBLISH
X-WR-TIMEZONE:Asia/Tokyo
BEGIN:VEVENT
UID:event39589@Tokyo Gig Guide
DTSTAMP:20260423T222542Z
CATEGORIES:Blues\, Garage Rock\, Rock\, Rock n Roll\, Ska\, Soul
DESCRIPTION:MY GENERATION!　6o's & Mod\, Ska\, Garage Rock\nCategory: Blues\
 , Garage Rock\, Rock\, Rock n Roll\, Ska\, Soul\nLink: https://www.tokyogi
 gguide.com/index.php?option=com_jem&view=event&id=39589:my-generation-6o-s
 -mod-ska-garage-rock&Itemid=1094\n
DTSTART:20260202T200000
DTEND:20260202T200000
LOCATION:The Church\,1F-2-16-5 Dogenzaka Shibuya-ku Tokyo\,Shibuya
SUMMARY:MY GENERATION!　6o's & Mod\, Ska\, Garage Rock
URL:https://www.tokyogigguide.com/index.php?option=com_jem&view=event&id=39
 589:my-generation-6o-s-mod-ska-garage-rock&Itemid=1094
END:VEVENT
END:VCALENDAR
