BEGIN:VCALENDAR
VERSION:2.0
PRODID:-//104.152.168.27//NONSGML kigkonsult.se iCalcreator 2.20//
CALSCALE:GREGORIAN
METHOD:PUBLISH
X-WR-TIMEZONE:Asia/Tokyo
BEGIN:VEVENT
UID:event39549@Tokyo Gig Guide
DTSTAMP:20260426T013103Z
CATEGORIES:Alternative\, Electronic\, Indie-Rock\, Rock
DESCRIPTION:Breedraen / Fossa / Liberty / Other Season. / 51=27 / リフの惑星\nCa
 tegory: Alternative\, Electronic\, Indie-Rock\, Rock\nLink: https://www.to
 kyogigguide.com/index.php?option=com_jem&view=event&id=39549:breedraen-fos
 sa-liberty-other-season-51-27&Itemid=1094\n
DTSTART:20260131T160000
DTEND:20260131T160000
LOCATION:Buzzfront\,Yokohama\, Nishi Ward\, Kitasaiwai\, 2 Chome−7−10 B1\,Y
 okohama
SUMMARY:Breedraen / Fossa / Liberty / Other Season. / 51=27 / リフの惑星
URL:https://www.tokyogigguide.com/index.php?option=com_jem&view=event&id=39
 549:breedraen-fossa-liberty-other-season-51-27&Itemid=1094
END:VEVENT
END:VCALENDAR
