BEGIN:VCALENDAR
VERSION:2.0
PRODID:-//104.152.168.27//NONSGML kigkonsult.se iCalcreator 2.20//
CALSCALE:GREGORIAN
METHOD:PUBLISH
X-WR-TIMEZONE:Asia/Tokyo
BEGIN:VEVENT
UID:event39531@Tokyo Gig Guide
DTSTAMP:20260420T154308Z
CATEGORIES:DJ\, Electronic\, Experimental\, Industrial\, Noise
DESCRIPTION:SKREI\, Risaripa (Harsh Set)\, ngt.\, B.A.R.K\,  yayoi\nCategor
 y: DJ\, Electronic\, Experimental\, Industrial\, Noise\nLink: https://www.
 tokyogigguide.com/index.php?option=com_jem&view=event&id=39531:skrei-risar
 ipa-harsh-set-ngt-b-a-r-k-yayoi&Itemid=1094\n
DTSTART:20260206T193000
DTEND:20260206T193000
LOCATION:Chitei\,Kita-Otsuka 1-14-6 B1\, Toshima-ku\, Tokyo\,Otsuka
SUMMARY:SKREI\, Risaripa (Harsh Set)\, ngt.\, B.A.R.K\,  yayoi
URL:https://www.tokyogigguide.com/index.php?option=com_jem&view=event&id=39
 531:skrei-risaripa-harsh-set-ngt-b-a-r-k-yayoi&Itemid=1094
END:VEVENT
END:VCALENDAR
