BEGIN:VCALENDAR
VERSION:2.0
PRODID:-//104.152.168.27//NONSGML kigkonsult.se iCalcreator 2.20//
CALSCALE:GREGORIAN
METHOD:PUBLISH
X-WR-TIMEZONE:Asia/Tokyo
BEGIN:VEVENT
UID:event39426@Tokyo Gig Guide
DTSTAMP:20260423T145456Z
CATEGORIES:Avant garde\, Experimental\, Free Jazz\, Improvised
DESCRIPTION:Blacky\, Hiroshi Azumi\, Ippei Kato\, Wataru Yamashita\, Kaoru 
 Nishimura\, Yutaka Hirose\, Hiroki Onuma\, Naoyasu Takahashi\nCategory: Av
 ant garde\, Experimental\, Free Jazz\, Improvised\nLink: https://www.tokyo
 gigguide.com/index.php?option=com_jem&view=event&id=39426:blacky-hiroshi-a
 zumi-ippei-kato-wataru-yamashita-kaoru-nishimura-yutaka-hirose-hiroki-onum
 a-naoyasu-takahashi&Itemid=1094\n
DTSTART:20260328T160000
DTEND:20260328T160000
LOCATION:space o\,Sugizaki Bld. B1\, Chihaya 4-39-5\, Toshima-ku\,Senkawa
SUMMARY:Blacky\, Hiroshi Azumi\, Ippei Kato\, Wataru Yamashita\, Kaoru Nish
 imura\, Yutaka Hirose\, Hiroki Onuma\, Naoyasu Takahashi
URL:https://www.tokyogigguide.com/index.php?option=com_jem&view=event&id=39
 426:blacky-hiroshi-azumi-ippei-kato-wataru-yamashita-kaoru-nishimura-yutak
 a-hirose-hiroki-onuma-naoyasu-takahashi&Itemid=1094
END:VEVENT
END:VCALENDAR
