BEGIN:VCALENDAR
VERSION:2.0
PRODID:-//104.152.168.27//NONSGML kigkonsult.se iCalcreator 2.20//
CALSCALE:GREGORIAN
METHOD:PUBLISH
X-WR-TIMEZONE:Asia/Tokyo
BEGIN:VEVENT
UID:event39374@Tokyo Gig Guide
DTSTAMP:20260424T053030Z
CATEGORIES:Electronic\, Experimental
DESCRIPTION:Ayami Suzuki (voice\, electronics)\, Risa Takeda (piano\, synth
 esizer)\nCategory: Electronic\, Experimental\nLink: https://www.tokyogiggu
 ide.com/index.php?option=com_jem&view=event&id=39374:ayami-suzuki-voice-el
 ectronics-risa-takeda-piano-synthesizer&Itemid=1094\n
DTSTART:20260212T190000
DTEND:20260212T190000
LOCATION:POLARIS\,6-2-10 Minami-Aoyama\, Minato-ku\, Tokyo\,Minami-Aoyama
SUMMARY:Ayami Suzuki (voice\, electronics)\, Risa Takeda (piano\, synthesiz
 er)
URL:https://www.tokyogigguide.com/index.php?option=com_jem&view=event&id=39
 374:ayami-suzuki-voice-electronics-risa-takeda-piano-synthesizer&Itemid=10
 94
END:VEVENT
END:VCALENDAR
