BEGIN:VCALENDAR
VERSION:2.0
PRODID:-//104.152.168.27//NONSGML kigkonsult.se iCalcreator 2.20//
CALSCALE:GREGORIAN
METHOD:PUBLISH
X-WR-TIMEZONE:Asia/Tokyo
BEGIN:VEVENT
UID:event39373@Tokyo Gig Guide
DTSTAMP:20260421T232546Z
CATEGORIES:Art\, Electronic
DESCRIPTION:Sachiko M (sinewaves)\nCategory: Art\, Electronic\nLink: https:
 //www.tokyogigguide.com/index.php?option=com_jem&view=event&id=39373:sachi
 ko-m-sinewaves&Itemid=1094\n
DTSTART:20260211T173000
DTEND:20260211T173000
LOCATION:POLARIS\,6-2-10 Minami-Aoyama\, Minato-ku\, Tokyo\,Minami-Aoyama
SUMMARY:Sachiko M (sinewaves)
URL:https://www.tokyogigguide.com/index.php?option=com_jem&view=event&id=39
 373:sachiko-m-sinewaves&Itemid=1094
END:VEVENT
END:VCALENDAR
