BEGIN:VCALENDAR
VERSION:2.0
PRODID:-//104.152.168.27//NONSGML kigkonsult.se iCalcreator 2.20//
CALSCALE:GREGORIAN
METHOD:PUBLISH
X-WR-TIMEZONE:Asia/Tokyo
BEGIN:VEVENT
UID:event39371@Tokyo Gig Guide
DTSTAMP:20260422T131130Z
CATEGORIES:Alternative\, Avant garde\, DJ\, Electronic\, Hardcore
DESCRIPTION:Taigen Kawabe [Bo Ningen]\, Temple Ov Subsonic Youth [Mars89]\n
 Category: Alternative\, Avant garde\, DJ\, Electronic\, Hardcore\nLink: ht
 tps://www.tokyogigguide.com/index.php?option=com_jem&view=event&id=39371:t
 aigen-kawabe-bo-ningen-temple-ov-subsonic-youth-mars89&Itemid=1094\n
DTSTART:20260207T190000
DTEND:20260207T190000
LOCATION:POLARIS\,6-2-10 Minami-Aoyama\, Minato-ku\, Tokyo\,Minami-Aoyama
SUMMARY:Taigen Kawabe [Bo Ningen]\, Temple Ov Subsonic Youth [Mars89]
URL:https://www.tokyogigguide.com/index.php?option=com_jem&view=event&id=39
 371:taigen-kawabe-bo-ningen-temple-ov-subsonic-youth-mars89&Itemid=1094
END:VEVENT
END:VCALENDAR
