BEGIN:VCALENDAR
VERSION:2.0
PRODID:-//104.152.168.27//NONSGML kigkonsult.se iCalcreator 2.20//
CALSCALE:GREGORIAN
METHOD:PUBLISH
X-WR-TIMEZONE:Asia/Tokyo
BEGIN:VEVENT
UID:event39357@Tokyo Gig Guide
DTSTAMP:20260420T170538Z
CATEGORIES:Blues\, Electronic\, Garage Rock\, Jam
DESCRIPTION:オオヤユウスケ [Polaris] (guitar\, vo)\,ミト [clammbon] (bass)\, 柏倉隆史 [t
 oe] (drums)\nCategory: Blues\, Electronic\, Garage Rock\, Jam\nLink: https
 ://www.tokyogigguide.com/index.php?option=com_jem&view=event&id=39357:pola
 ris-guitar-vo-clammbon-bass-toe-drums&Itemid=1094\n
DTSTART:20260124T190000
DTEND:20260124T190000
LOCATION:POLARIS\,6-2-10 Minami-Aoyama\, Minato-ku\, Tokyo\,Minami-Aoyama
SUMMARY:オオヤユウスケ [Polaris] (guitar\, vo)\,ミト [clammbon] (bass)\, 柏倉隆史 [toe] 
 (drums)
URL:https://www.tokyogigguide.com/index.php?option=com_jem&view=event&id=39
 357:polaris-guitar-vo-clammbon-bass-toe-drums&Itemid=1094
END:VEVENT
END:VCALENDAR
