BEGIN:VCALENDAR
VERSION:2.0
PRODID:-//104.152.168.27//NONSGML kigkonsult.se iCalcreator 2.20//
CALSCALE:GREGORIAN
METHOD:PUBLISH
X-WR-TIMEZONE:Asia/Tokyo
BEGIN:VEVENT
UID:event39341@Tokyo Gig Guide
DTSTAMP:20260420T121310Z
CATEGORIES:Garage Rock\, Power Pop\, Punk\, Rock\, Rock n Roll
DESCRIPTION:ZOMAHON and his MUSTANGS\, Lonesome Slim\, 96粒の泪\, Barks Barks\
 , K.SHARPS BAND\, DJs Keiji Ronson\, Beny JP (Wacky Date)\nCategory: Garag
 e Rock\, Power Pop\, Punk\, Rock\, Rock n Roll\nLink: https://www.tokyogig
 guide.com/index.php?option=com_jem&view=event&id=39341:zomahon-and-his-mus
 tangs-lonesome-slim-96-96-teardrops-barks-barks-k-sharps-band&Itemid=1094
 \n
DTSTART:20260214T173000
DTEND:20260214T173000
LOCATION:Gamuso\,Takuei Building 2F\, Asagaya-kita 2-12-5\,Asagaya
SUMMARY:ZOMAHON and his MUSTANGS\, Lonesome Slim\, 96粒の泪\, Barks Barks\, K.
 SHARPS BAND\, DJs Keiji Ronson\, Beny JP (Wacky Date)
URL:https://www.tokyogigguide.com/index.php?option=com_jem&view=event&id=39
 341:zomahon-and-his-mustangs-lonesome-slim-96-96-teardrops-barks-barks-k-s
 harps-band&Itemid=1094
END:VEVENT
END:VCALENDAR
