BEGIN:VCALENDAR
VERSION:2.0
PRODID:-//104.152.168.27//NONSGML kigkonsult.se iCalcreator 2.20//
CALSCALE:GREGORIAN
METHOD:PUBLISH
X-WR-TIMEZONE:Asia/Tokyo
BEGIN:VEVENT
UID:event39335@Tokyo Gig Guide
DTSTAMP:20260420T223141Z
CATEGORIES:Electronic
DESCRIPTION:Zack Zack Zack\, Thee Blackdoor Blues\, Oeil\, XXXAtsushi (Wast
 ed youth diaries)\, Yosuke (Celezenka)\, Ippei (Tiny Hilite)\nCategory: El
 ectronic\nLink: https://www.tokyogigguide.com/index.php?option=com_jem&vie
 w=event&id=39335:zack-zack-zack-thee-blackdoor-blues-oeil-dj-xxxatsushi-wa
 sted-youth-diaries-yosuke-celezenka-ippei-tiny-hilite&Itemid=1094\n
DTSTART:20260307T183000
DTEND:20260307T183000
LOCATION:SPACE\,B1F 5-4-1 Shinjuku Shinjuku-ku\,Tokyo\,Shinjuku
SUMMARY:Zack Zack Zack\, Thee Blackdoor Blues\, Oeil\, XXXAtsushi (Wasted y
 outh diaries)\, Yosuke (Celezenka)\, Ippei (Tiny Hilite)
URL:https://www.tokyogigguide.com/index.php?option=com_jem&view=event&id=39
 335:zack-zack-zack-thee-blackdoor-blues-oeil-dj-xxxatsushi-wasted-youth-di
 aries-yosuke-celezenka-ippei-tiny-hilite&Itemid=1094
END:VEVENT
END:VCALENDAR
