BEGIN:VCALENDAR
VERSION:2.0
PRODID:-//104.152.168.27//NONSGML kigkonsult.se iCalcreator 2.20//
CALSCALE:GREGORIAN
METHOD:PUBLISH
X-WR-TIMEZONE:Asia/Tokyo
BEGIN:VEVENT
UID:event39234@Tokyo Gig Guide
DTSTAMP:20260424T221655Z
CATEGORIES:Avant garde\, Electro\, Electronic\, Experimental\, Noise
DESCRIPTION:Brain Fog (From Canada)\, SJOD (From Chicago)\, RYECROFT (From 
 Fukuoka)\, gnu boys\, Tokyo Hamkatsu\nCategory: Avant garde\, Electro\, El
 ectronic\, Experimental\, Noise\nLink: https://www.tokyogigguide.com/index
 .php?option=com_jem&view=event&id=39234:brain-fog-from-canada-sjod-from-ch
 icago-ryecroft-from-fukuoka-gnu-boys-tokyo-hamkatsu&Itemid=1094\n
DTSTART:20260212T183000
DTEND:20260212T183000
LOCATION:Oriental Force\,#8 Nitto Build. B1\, Koenji-Minami 3-38-6\,Koenji
SUMMARY:Brain Fog (From Canada)\, SJOD (From Chicago)\, RYECROFT (From Fuku
 oka)\, gnu boys\, Tokyo Hamkatsu
URL:https://www.tokyogigguide.com/index.php?option=com_jem&view=event&id=39
 234:brain-fog-from-canada-sjod-from-chicago-ryecroft-from-fukuoka-gnu-boys
 -tokyo-hamkatsu&Itemid=1094
END:VEVENT
END:VCALENDAR
